BEGIN:VCALENDAR
VERSION:2.0
PRODID:-//City Atlas - ECPv6.15.20//NONSGML v1.0//EN
CALSCALE:GREGORIAN
METHOD:PUBLISH
X-WR-CALNAME:City Atlas
X-ORIGINAL-URL:https://newyork.thecityatlas.org
X-WR-CALDESC:Events for City Atlas
REFRESH-INTERVAL;VALUE=DURATION:PT1H
X-Robots-Tag:noindex
X-PUBLISHED-TTL:PT1H
BEGIN:VTIMEZONE
TZID:America/New_York
BEGIN:DAYLIGHT
TZOFFSETFROM:-0500
TZOFFSETTO:-0400
TZNAME:EDT
DTSTART:20130310T070000
END:DAYLIGHT
BEGIN:STANDARD
TZOFFSETFROM:-0400
TZOFFSETTO:-0500
TZNAME:EST
DTSTART:20131103T060000
END:STANDARD
BEGIN:DAYLIGHT
TZOFFSETFROM:-0500
TZOFFSETTO:-0400
TZNAME:EDT
DTSTART:20140309T070000
END:DAYLIGHT
BEGIN:STANDARD
TZOFFSETFROM:-0400
TZOFFSETTO:-0500
TZNAME:EST
DTSTART:20141102T060000
END:STANDARD
BEGIN:DAYLIGHT
TZOFFSETFROM:-0500
TZOFFSETTO:-0400
TZNAME:EDT
DTSTART:20150308T070000
END:DAYLIGHT
BEGIN:STANDARD
TZOFFSETFROM:-0400
TZOFFSETTO:-0500
TZNAME:EST
DTSTART:20151101T060000
END:STANDARD
END:VTIMEZONE
BEGIN:VEVENT
DTSTART;TZID=America/New_York:20140731T093000
DTEND;TZID=America/New_York:20140731T120000
DTSTAMP:20260424T122249
CREATED:20140725T151244Z
LAST-MODIFIED:20140725T151244Z
UID:34020-1406799000-1406808000@newyork.thecityatlas.org
SUMMARY:Developing Data Driven Decisions for Energy Managers and CSOs
DESCRIPTION:Image: www.agrion.org \nWith the advent of advanced analytics\, corporations are able to scrutinize how sustainable and cost-effective their operations\, supply chain\, suppliers\, investments\, and employee behaviors are. This performance data is important not just for the purposes of greening practices\, but also for providing greater transparency to investors and consumers\, who are increasingly eco-conscious. Harnessing energy data for strategic planning will attain energy reduction\, sustainability and profit margin goals. \nIn this meeting\, the group will examine how companies are using big data to make decisions for their triple bottom line and achieve leadership buy in. \nHow can be big data be leveraged to drive energy optimization that reduces costs and boosts sustainability performance?\nHow to communicate the importance of energy data to top management?\nWhat is the importance of fast and reliable reporting?\nHow to make continuous operational improvements?\nHow is big data used to drive sustainability performance?\nWhat are the main challenges in collecting and using such large volumes of data? \nFor more information or to request to join the panel\, please contact: rebecca.osullivan@agrion.org \nThursday\, July 31st\, 2014\, 9:30am – 12:00pm EST / Streamed Panel Discussion: 7:00am – 8:30am PST / 10:00am – 11:30am EST / 16:00 – 17:30 (Paris-Brussels)
URL:https://newyork.thecityatlas.org/event/developing-data-driven-decisions-for-energy-managers-and-csos/
LOCATION:AGRION\, New York\, NY\, United States
CATEGORIES:Learn,Lifestyle
ATTACH;FMTTYPE=image/jpeg:https://newyork.thecityatlas.org/wp-content/uploads/DARPA_Big_Data.jpg
END:VEVENT
BEGIN:VEVENT
DTSTART;TZID=America/New_York:20140731T160000
DTEND;TZID=America/New_York:20140731T183000
DTSTAMP:20260424T122249
CREATED:20140725T151431Z
LAST-MODIFIED:20140725T151431Z
UID:34053-1406822400-1406831400@newyork.thecityatlas.org
SUMMARY:Volunteer: Weekly Garden Crew
DESCRIPTION:Swindler Cove Park. [Photo: Devon Kennedy] \nGarden Crew meets to maintain and revitalize the ornamental and native plantings around Sherman Creek and Swindler Cove. As part of garden crew you will help redesign and plant garden beds as well as weed\, water and dead-head in existing gardens. If you want to learn more about planting\, pruning\, weed identification and other horticultural techniques join the Garden Crew in their weekly workdays. \nREGISTRATION IS REQUIRED – e-mail volunteer@nyrp.org to join and to receive additional instructions.
URL:https://newyork.thecityatlas.org/event/volunteer-weekly-garden-crew-2/
LOCATION:Swindler Cove Park\, Dyckman Street and 10th Avenue\, Manhattan\, NY\, United States
CATEGORIES:Outdoors,Volunteer
ATTACH;FMTTYPE=image/jpeg:https://newyork.thecityatlas.org/wp-content/uploads/IMG_7607-copy.jpg
END:VEVENT
END:VCALENDAR