BEGIN:VCALENDAR
VERSION:2.0
PRODID:-//City Atlas - ECPv6.15.20//NONSGML v1.0//EN
CALSCALE:GREGORIAN
METHOD:PUBLISH
X-ORIGINAL-URL:https://newyork.thecityatlas.org
X-WR-CALDESC:Events for City Atlas
REFRESH-INTERVAL;VALUE=DURATION:PT1H
X-Robots-Tag:noindex
X-PUBLISHED-TTL:PT1H
BEGIN:VTIMEZONE
TZID:America/New_York
BEGIN:DAYLIGHT
TZOFFSETFROM:-0500
TZOFFSETTO:-0400
TZNAME:EDT
DTSTART:20130310T070000
END:DAYLIGHT
BEGIN:STANDARD
TZOFFSETFROM:-0400
TZOFFSETTO:-0500
TZNAME:EST
DTSTART:20131103T060000
END:STANDARD
BEGIN:DAYLIGHT
TZOFFSETFROM:-0500
TZOFFSETTO:-0400
TZNAME:EDT
DTSTART:20140309T070000
END:DAYLIGHT
BEGIN:STANDARD
TZOFFSETFROM:-0400
TZOFFSETTO:-0500
TZNAME:EST
DTSTART:20141102T060000
END:STANDARD
BEGIN:DAYLIGHT
TZOFFSETFROM:-0500
TZOFFSETTO:-0400
TZNAME:EDT
DTSTART:20150308T070000
END:DAYLIGHT
BEGIN:STANDARD
TZOFFSETFROM:-0400
TZOFFSETTO:-0500
TZNAME:EST
DTSTART:20151101T060000
END:STANDARD
END:VTIMEZONE
BEGIN:VEVENT
DTSTART;TZID=America/New_York:20140817T130000
DTEND;TZID=America/New_York:20140817T180000
DTSTAMP:20260425T145246
CREATED:20140808T131149Z
LAST-MODIFIED:20140810T145411Z
UID:34324-1408280400-1408298400@newyork.thecityatlas.org
SUMMARY:Aeolian Ride Birthday Party to Support 596 Acres
DESCRIPTION:An Aeolian Rider. [Photo: http://www.aeolian-ride.info/] \nWant to be a part of a fun\, inflated sculpture transforming the landscape of the city? AEOLIAN RIDE will celebrate its 10th birthday in New York with a riding event to Governor’s Island and the site of 596 Acres’ Urban Reviewer residency with Spontaneous Interventions on Governor’s Island. \n10 years ago\, 52 people showed up on bikes\, put on inflatable costumes and rode bicycles from Manhattan to Brooklyn. Since then Aeolian Riders have taken an amazing ride through 20 cities around the globe. See it happen here: http://www.aeolian-ride.info/video.html \nFor details on the event and to sign up\, visit https://www.eventbrite.com/e/aeolian-ride-birthday-new-york-tickets-12108058529 \nA portion of ticket proceeds go to support 596 Acres!
URL:https://newyork.thecityatlas.org/event/aeolian-ride-birthday-party-to-support-596-acres/
LOCATION:Grand Army Plaza\, Grand Army Plaza\, Flatbush Avenue\, Brooklyn \, NY\, 11217\, United States
CATEGORIES:Lifestyle,Outdoors
ATTACH;FMTTYPE=image/jpeg:https://newyork.thecityatlas.org/wp-content/uploads/AEOLIAN_LA_18.jpg
END:VEVENT
END:VCALENDAR