BEGIN:VCALENDAR
VERSION:2.0
PRODID:-//City Atlas - ECPv6.15.20//NONSGML v1.0//EN
CALSCALE:GREGORIAN
METHOD:PUBLISH
X-WR-CALNAME:City Atlas
X-ORIGINAL-URL:https://newyork.thecityatlas.org
X-WR-CALDESC:Events for City Atlas
REFRESH-INTERVAL;VALUE=DURATION:PT1H
X-Robots-Tag:noindex
X-PUBLISHED-TTL:PT1H
BEGIN:VTIMEZONE
TZID:America/New_York
BEGIN:DAYLIGHT
TZOFFSETFROM:-0500
TZOFFSETTO:-0400
TZNAME:EDT
DTSTART:20250309T070000
END:DAYLIGHT
BEGIN:STANDARD
TZOFFSETFROM:-0400
TZOFFSETTO:-0500
TZNAME:EST
DTSTART:20251102T060000
END:STANDARD
BEGIN:DAYLIGHT
TZOFFSETFROM:-0500
TZOFFSETTO:-0400
TZNAME:EDT
DTSTART:20260308T070000
END:DAYLIGHT
BEGIN:STANDARD
TZOFFSETFROM:-0400
TZOFFSETTO:-0500
TZNAME:EST
DTSTART:20261101T060000
END:STANDARD
BEGIN:DAYLIGHT
TZOFFSETFROM:-0500
TZOFFSETTO:-0400
TZNAME:EDT
DTSTART:20270314T070000
END:DAYLIGHT
BEGIN:STANDARD
TZOFFSETFROM:-0400
TZOFFSETTO:-0500
TZNAME:EST
DTSTART:20271107T060000
END:STANDARD
END:VTIMEZONE
BEGIN:VEVENT
DTSTART;TZID=America/New_York:20260424T160000
DTEND;TZID=America/New_York:20260424T190000
DTSTAMP:20260424T092659
CREATED:20260403T022649Z
LAST-MODIFIED:20260403T022915Z
UID:54365-1777046400-1777057200@newyork.thecityatlas.org
SUMMARY:ENERGETIC at the UFT
DESCRIPTION:ENERGETIC 4/24 at UFT:\nhttps://web.cvent.com/event/c98d40a6-42c7-48da-a883-2913355fd60e/summary\n\n\n\n\n\n\nUFT Earth Week Game Night\n\n\n\n\n\n\n\n\n\nApril 24\, 2026\n4:00 PM-7:00 PMET\n\n\n\n\n\n\n\n\n\n\nUFT headquarters\n\n\n52 Broadway\, 19th floor\, room F\n\n\nNew York\, NY 10004
URL:https://newyork.thecityatlas.org/event/54365/
LOCATION:United Federation of Teachers\, 52 Broadway\, 19th floor\, room F\, New York City\, NY\, 10004\, United States
END:VEVENT
END:VCALENDAR